BEGIN:VCALENDAR
VERSION:2.0
PRODID:-//Reitausbildung Simanek - ECPv4.9.13//NONSGML v1.0//EN
CALSCALE:GREGORIAN
METHOD:PUBLISH
X-WR-CALNAME:Reitausbildung Simanek
X-ORIGINAL-URL:http://www.reitausbildung-simanek.at
X-WR-CALDESC:Veranstaltungen im Reitausbildung Simanek
BEGIN:VTIMEZONE
TZID:Europe/Berlin
BEGIN:DAYLIGHT
TZOFFSETFROM:+0100
TZOFFSETTO:+0200
TZNAME:CEST
DTSTART:20200329T010000
END:DAYLIGHT
BEGIN:STANDARD
TZOFFSETFROM:+0200
TZOFFSETTO:+0100
TZNAME:CET
DTSTART:20201025T010000
END:STANDARD
END:VTIMEZONE
BEGIN:VEVENT
DTSTART;VALUE=DATE:20200320
DTEND;VALUE=DATE:20200323
DTSTAMP:20260421T104813
CREATED:20200104T223431Z
LAST-MODIFIED:20200205T211425Z
UID:3171-1584662400-1584921599@www.reitausbildung-simanek.at
SUMMARY:Lehrgang Springen und Dressur
DESCRIPTION:\n  \nTrainingsangebot:\nSpringen\, Cavaletti\, Dressur\,\n3-tägiges bedarfsorientiertes Aufbautraining im Dressur- und /oder Springbereich\nDressur- und SpringreiterInnen aller Ausbildungsklassen auch zur Turniervorbereitung \nKurskosten:\nEinheit (zwei oder drei Reiter) EUR 30\,-\nEinzeleinheit EUR 60\,- \nAnmeldung und Boxenreservierung bitte bis 15.01.2020 bei: \nKarin Schwarz\nTel: 0664 333 68 89\neMail: karin.schwarz@hotmail.com \n\n
URL:http://www.reitausbildung-simanek.at/lehrgang/lehrgang-springen-und-dressur/
LOCATION:Magna Racino\, Ebreichsdorf\, Niederösterreich\, Österreich
CATEGORIES:Lehrgang D+S
ATTACH;FMTTYPE=image/jpeg:http://www.reitausbildung-simanek.at/wp-content/uploads/2017/10/45467293_1162161090600925_6530488118481518592_n.jpg
END:VEVENT
END:VCALENDAR